BEGIN:VCALENDAR
VERSION:2.0
PRODID:-//qoap.org//eCatholic//EN
X-WR-TIMEZONE:LocalTZ
BEGIN:VTIMEZONE
TZID:LocalTZ
X-LIC-LOCATION:LocalTZ
BEGIN:DAYLIGHT
TZOFFSETFROM:-0600
TZOFFSETTO:-0500
TZNAME:LocalTZ
DTSTART:19700308T020000
RRULE:FREQ=YEARLY;BYMONTH=3;BYDAY=2SU
END:DAYLIGHT
BEGIN:STANDARD
TZOFFSETFROM:-0500
TZOFFSETTO:-0600
TZNAME:LocalTZ
DTSTART:19701101T020000
RRULE:FREQ=YEARLY;BYMONTH=11;BYDAY=1SU
END:STANDARD
END:VTIMEZONE
BEGIN:VEVENT
UID:2493416@qoap.org
DTSTAMP:20260420T185211Z
DTSTART:20260424T091500
DTEND:20260424T101500
RRULE:FREQ=WEEKLY;BYDAY=FR
EXDATE:20241101T091500,20241129T091500,20250418T091500,20251128T091500,202
 51226T091500
SUMMARY:Friday Scripture Group
DESCRIPTION:Join us as we discuss the scripture readings for the upcoming 
 weekend.\nClick on the image to be connected by Zoom!
END:VEVENT
BEGIN:VEVENT
UID:2627821@qoap.org
DTSTAMP:20260420T185211Z
DTSTART:20260423T093000
DTEND:20260423T103000
RRULE:FREQ=WEEKLY;BYDAY=TH
EXDATE:20241226T093000,20250102T093000,20251127T093000,20251225T093000,202
 60101T093000
SUMMARY:Mary's Prayer Group - Saint Peter
END:VEVENT
BEGIN:VEVENT
UID:2668024@qoap.org
DTSTAMP:20260420T185211Z
DTSTART:20260420T080000
DTEND:20260420T083000
RRULE:FREQ=WEEKLY;BYDAY=MO
EXDATE:20251208T080000
SUMMARY:Daily Mass - Saint Dennis
DESCRIPTION:8:30 AM Rosery 
END:VEVENT
BEGIN:VEVENT
UID:2668027@qoap.org
DTSTAMP:20260420T185211Z
DTSTART:20260421T080000
DTEND:20260421T083000
RRULE:FREQ=WEEKLY;BYDAY=TU
EXDATE:20251028T080000,20251125T080000
SUMMARY:Daily Mass - Saint Dennis
DESCRIPTION:8:30 Rosary 
END:VEVENT
BEGIN:VEVENT
UID:2668028@qoap.org
DTSTAMP:20260420T185211Z
DTSTART:20260423T080000
DTEND:20260423T083000
RRULE:FREQ=WEEKLY;BYDAY=TH
EXDATE:20250417T080000,20251127T080000,20251225T080000,20260101T080000
SUMMARY:Daily Mass - Saint Dennis
DESCRIPTION:8:30 Rosary
END:VEVENT
BEGIN:VEVENT
UID:2668040@qoap.org
DTSTAMP:20260420T185211Z
DTSTART:20260422T083000
DTEND:20260422T090000
RRULE:FREQ=WEEKLY;BYDAY=WE
EXDATE:20250305T083000,20251224T083000,20260218T083000
SUMMARY:Daily Mass - Saint Dennis
DESCRIPTION:8:00 AM Rosary
END:VEVENT
BEGIN:VEVENT
UID:2668060@qoap.org
DTSTAMP:20260420T185211Z
DTSTART:20260421T170000
DTEND:20260421T180000
RRULE:FREQ=WEEKLY;BYDAY=TU
EXDATE:20251028T170000
SUMMARY:Daily Mass - Saint Peter
DESCRIPTION:4:00 PM Adoration 
END:VEVENT
BEGIN:VEVENT
UID:2668064@qoap.org
DTSTAMP:20260420T185211Z
DTSTART:20260422T090000
DTEND:20260422T100000
RRULE:FREQ=WEEKLY;BYDAY=WE
EXDATE:20250604T090000,20251224T090000,20260128T090000,20260218T090000
SUMMARY:Daily Mass - Saint Peter
END:VEVENT
BEGIN:VEVENT
UID:2668067@qoap.org
DTSTAMP:20260420T185211Z
DTSTART:20260423T090000
DTEND:20260423T100000
RRULE:FREQ=WEEKLY;BYDAY=TH
EXDATE:20250417T090000,20250605T090000,20251127T090000,20251225T090000,202
 60101T090000
SUMMARY:Daily Mass - Saint Peter
END:VEVENT
BEGIN:VEVENT
UID:2668069@qoap.org
DTSTAMP:20260420T185211Z
DTSTART:20260424T090000
DTEND:20260424T100000
RRULE:FREQ=WEEKLY;BYDAY=FR
EXDATE:20250418T090000,20250606T090000,20251128T090000,20251226T090000
SUMMARY:Daily Mass - Saint Peter
END:VEVENT
BEGIN:VEVENT
UID:2668073@qoap.org
DTSTAMP:20260420T185211Z
DTSTART:20260425T160000
DTEND:20260425T170000
RRULE:FREQ=WEEKLY;BYDAY=SA
EXDATE:20250419T160000,20260404T160000
SUMMARY:Sunday Mass
END:VEVENT
BEGIN:VEVENT
UID:2668076@qoap.org
DTSTAMP:20260420T185211Z
DTSTART:20260425T160000
DTEND:20260425T170000
RRULE:FREQ=WEEKLY;BYDAY=SA
EXDATE:20250419T160000,20250607T160000,20260404T160000
SUMMARY:Sunday Mass
END:VEVENT
BEGIN:VEVENT
UID:2668099@qoap.org
DTSTAMP:20260420T185211Z
DTSTART:20260426T090000
DTEND:20260426T100000
RRULE:FREQ=WEEKLY;BYDAY=SU
EXDATE:20250427T090000,20250608T090000,20251123T090000,20251214T090000,202
 51221T090000,20251228T090000,20260405T090000
SUMMARY:Sunday Mass - Saint Peter
END:VEVENT
BEGIN:VEVENT
UID:2668100@qoap.org
DTSTAMP:20260420T185211Z
DTSTART:20260426T083000
DTEND:20260426T093000
RRULE:FREQ=WEEKLY;BYDAY=SU
EXDATE:20251123T083000,20251214T083000,20251221T083000,20251228T083000,202
 60405T083000
SUMMARY:Sunday Mass - Saint Dennis
END:VEVENT
BEGIN:VEVENT
UID:2744513@qoap.org
DTSTAMP:20260420T185211Z
DTSTART:20260426T103000
DTEND:20260426T113000
RRULE:FREQ=WEEKLY;BYDAY=SU
EXDATE:20251123T103000,20251214T103000,20251221T103000,20251228T103000,202
 60405T103000
SUMMARY:Sunday Mass - Saint Dennis
END:VEVENT
BEGIN:VEVENT
UID:2744564@qoap.org
DTSTAMP:20260420T185211Z
DTSTART:20260425T083000
DTEND:20260425T093000
RRULE:FREQ=WEEKLY;BYDAY=SA
EXDATE:20250419T083000,20251213T083000,20260321T083000
SUMMARY:Reconciliation
END:VEVENT
BEGIN:VEVENT
UID:2781969@qoap.org
DTSTAMP:20260420T185211Z
DTSTART:20260424T080000
DTEND:20260424T083000
RRULE:FREQ=WEEKLY;BYDAY=FR
EXDATE:20251128T080000,20251226T080000
SUMMARY:Daily Mass - Saint Dennis
DESCRIPTION:Rosary 8:30 a.m.
END:VEVENT
END:VCALENDAR
